BEGIN:VCALENDAR
VERSION:2.0
PRODID:spatie/icalendar-generator
NAME:Coral Gables Highschool JROTC
X-WR-CALNAME:Coral Gables Highschool JROTC
DESCRIPTION:Events for Coral Gables Highschool JROTC
X-WR-CALDESC:Events for Coral Gables Highschool JROTC
BEGIN:VEVENT
UID:293-1780718400-1781150340@gablesjrotc.com
DTSTAMP:20260419T161222Z
SUMMARY:JCLC Adventure Camp
DESCRIPTION:
LOCATION:41940 Boy Scout Rd\, Paisley\, Florida 32767
X-MICROSOFT-CDO-ALLDAYEVENT:TRUE
URL:https://gablesjrotc.com/event/jclc-adventure-camp/
DTSTART;VALUE=DATE:20260606
DTEND;VALUE=DATE:20260610
END:VEVENT
END:VCALENDAR