BEGIN:VCALENDAR
VERSION:2.0
PRODID:spatie/icalendar-generator
NAME:Coral Gables Highschool JROTC
X-WR-CALNAME:Coral Gables Highschool JROTC
DESCRIPTION:Events for Coral Gables Highschool JROTC
X-WR-CALDESC:Events for Coral Gables Highschool JROTC
BEGIN:VEVENT
UID:294-1780891200-1781323140@gablesjrotc.com
DTSTAMP:20260419T142957Z
SUMMARY:JCLC STEM Camp
DESCRIPTION:
X-MICROSOFT-CDO-ALLDAYEVENT:TRUE
URL:https://gablesjrotc.com/event/jclc-stem-camp/
DTSTART;VALUE=DATE:20260608
DTEND;VALUE=DATE:20260612
END:VEVENT
END:VCALENDAR